BEGIN:VCALENDAR
VERSION:2.0
PRODID:-//hacksw/handcal//NONSGML v1.0//EN
BEGIN:VEVENT
SUMMARY:4 coureurs 4 podiums dont le general a Aulnay
UID:60d8ebcb-8dda-4c0a-8ddc-f721fe600061
DTSTART:20260410T220000Z
DTEND:20260411T220000Z
LOCATION:Localisation   Aulnay de Saintonge
CATEGORIES:Sportif
STATUS:
URL;VALUE=URI:https://www.aigrefeuilleathletisme.fr/evenements/2026/04/11/4-coureurs-4-podiums-dont-le-general-a-aulnay-2444606
END:VEVENT
END:VCALENDAR
