BEGIN:VCALENDAR
VERSION:2.0
PRODID:-//hacksw/handcal//NONSGML v1.0//EN
BEGIN:VEVENT
SUMMARY:Romain finisher de La Puymoyennaise
UID:92f6be70-931c-4a3b-9761-9b0a04248b06
DTSTART:20260404T220000Z
DTEND:20260405T220000Z
LOCATION:Localisation   Puymoyen
CATEGORIES:Sportif
STATUS:
URL;VALUE=URI:https://www.aigrefeuilleathletisme.fr/evenements/2026/04/05/romain-finisher-de-la-puymoyennaise-2443151
END:VEVENT
END:VCALENDAR
